BEGIN:VCALENDAR
VERSION:2.0
PRODID:-//Sektion Karpaten - ECPv5.1.1//NONSGML v1.0//EN
CALSCALE:GREGORIAN
METHOD:PUBLISH
X-WR-CALNAME:Sektion Karpaten
X-ORIGINAL-URL:https://sektion-karpaten.de
X-WR-CALDESC:Veranstaltungen im Sektion Karpaten
BEGIN:VTIMEZONE
TZID:Europe/Berlin
BEGIN:DAYLIGHT
TZOFFSETFROM:+0100
TZOFFSETTO:+0200
TZNAME:CEST
DTSTART:20230326T010000
END:DAYLIGHT
BEGIN:STANDARD
TZOFFSETFROM:+0200
TZOFFSETTO:+0100
TZNAME:CET
DTSTART:20231029T010000
END:STANDARD
END:VTIMEZONE
BEGIN:VEVENT
DTSTART;TZID=Europe/Berlin:20230313T120000
DTEND;TZID=Europe/Berlin:20230318T180000
DTSTAMP:20260424T121850
CREATED:20221118T172043Z
LAST-MODIFIED:20230616T082745Z
UID:13782-1678708800-1679162400@sektion-karpaten.de
SUMMARY:Venter Skirunde
DESCRIPTION:Ablauf und Ziele \n\n\nDie Touren werden abhängig von Wetter bzw. Schneelage und tagesaktueller Lawinengefährdung vor Ort festgelegt.\nMögliche Ziele: Similaun (3606 m)\, Hauslabjoch (3279 m)\,  Fineilspitze (3516 m)\, Weisßkugel (3739 m)\, Fluchtkogel (3500 m)\, Hochvernagtspitze (3536 m)\, Wildspitze (3770 m)\n\n\nVoraussichtliche Planung: \nMontag: \n\nAnreise\, Ausrüstungscheck\, Aufstieg (ca 2-3 Stunden) zur Martin-Busch Hütte\, Tourenplanung\n(Ü+HP im Lager: 55 €)\n\nDienstag: \n\n\nMartin-Busch Hütte – Similaun (3606 m) – Martin-Busch Hütte\n(Ü+HP im Lager: 55 €) \n\n\nMittwoch:  \n\n\nMartin-Busch Hütte – Hauslabjoch (3279 m) – Schöne Aussicht Schutzhütte\n(Ü+HP im Lager: 84 €) \n\n\nDonnerstag:  \n\n\nSchöne Aussicht Schutzhütte – Weißkugel (3739 m) – Hochjoch-Hospitz\n(Ü+HP im Lager 46 €) \n\n\nFreitag:  \n\n\nHochjoch-Hospitz – Fluchtkogel (3500 m) – Vernagthütte\n(Ü+HP im Lager 57 €) \n\n\nSamstag:  \n\n\nVernagthütte – Wildspitze (3770 m) – Vent \n\n\n\nAnzahlung: \n\n25 € pro Person (Anzahlung für die Hütten)\n\nDie Anzahlung entspricht der Stornogebühr und ist nach der Anmeldung fällig – die Bankverbindung wird mit der Anmeldebestätigung mitgeteilt. \n\nWichtig: \nJeder Teilnehmer ist den gesetzten Zielen gewachsen und muss jederzeit die Gefahren der Tour selbstständig abschätzen können (Einschätzen des Lawinenrisikos\, Orientieren im freien Gelände\, Beherrschen von Spaltenbergung). \n
URL:https://sektion-karpaten.de/veranstaltung/venter-skirunde/
LOCATION:Ötztaler Alpen
CATEGORIES:Skitour
ATTACH;FMTTYPE=image/jpeg:https://sektion-karpaten.de/wp-content/uploads/20220313-120158-original-scaled.jpg
ORGANIZER;CN="Agnieszka%20Janik":MAILTO:agnieszka.janik@sektion-karpaten.de
END:VEVENT
BEGIN:VEVENT
DTSTART;TZID=Europe/Berlin:20230317T100000
DTEND;TZID=Europe/Berlin:20230317T160000
DTSTAMP:20260424T121850
CREATED:20221119T183149Z
LAST-MODIFIED:20230111T074237Z
UID:14202-1679047200-1679068800@sektion-karpaten.de
SUMMARY:Zavelsteiner Wildkrokusblüte - Wochentagswanderung
DESCRIPTION:Ein einzigartiges Naturschauspiel in Süddeutschland zeigt sich jedes Jahr etwa ab Anfang März im 52ha großen Naturschutzgebiet Zavelsteins im Nördlichen Schwarzwald. Auf den Wiesen rund um den Ort sprießen tausende Wildkrokusse aus der Erde und zeigen sich in ihrer schönsten Pracht. \nDie Tour wird abhängig von Wetter vor Ort festgelegt. \nJeder Teilnehmer ist den gesetzten Zielen gewachsen und muss jederzeit die Gefahren der Tour selbstständig abschätzen können (Orientieren im freien Gelände) \n
URL:https://sektion-karpaten.de/veranstaltung/zavelsteiner-wildkrokusbluete-wochentagswanderung/
LOCATION:Parkplatz „Sonnenhalde“\, Teinach-Zavelstein\, 75385
ATTACH;FMTTYPE=image/jpeg:https://sektion-karpaten.de/wp-content/uploads/zavelstein-krokusbluete.jpg
ORGANIZER;CN="Doris%20Simonis":MAILTO:doris.simonis@sektion-karpaten.de
END:VEVENT
END:VCALENDAR