BEGIN:VCALENDAR
VERSION:2.0
PRODID:-//Sektion Karpaten - ECPv5.1.1//NONSGML v1.0//EN
CALSCALE:GREGORIAN
METHOD:PUBLISH
X-WR-CALNAME:Sektion Karpaten
X-ORIGINAL-URL:https://sektion-karpaten.de
X-WR-CALDESC:Veranstaltungen im Sektion Karpaten
BEGIN:VTIMEZONE
TZID:Europe/Berlin
BEGIN:DAYLIGHT
TZOFFSETFROM:+0100
TZOFFSETTO:+0200
TZNAME:CEST
DTSTART:20230326T010000
END:DAYLIGHT
BEGIN:STANDARD
TZOFFSETFROM:+0200
TZOFFSETTO:+0100
TZNAME:CET
DTSTART:20231029T010000
END:STANDARD
END:VTIMEZONE
BEGIN:VEVENT
DTSTART;TZID=Europe/Berlin:20230310T043000
DTEND;TZID=Europe/Berlin:20230312T220000
DTSTAMP:20260424T023545
CREATED:20221026T185111Z
LAST-MODIFIED:20230303T170353Z
UID:13172-1678422600-1678658400@sektion-karpaten.de
SUMMARY:Skihochtour Britanniahütte
DESCRIPTION:Skihochtouren rund um die Britanniahütte im Wallis\nJe nach Verhältnissen können sich die Gipfel und die Planung vor Ort ändern: \nVoraussichtliche Planung: \nTag 1: \n\n11 Uhr Aufstieg von Saas Fee mit der Bahn bis ca. 3.500m und dann ggf. Allalin (4.027m) mit Ski\, anschließend Querung zur Britanniahütte\n\nTag 2: \n\nSkihochtour auf das Strahlhorn (4.190m)\, Rückkehr zur Britanniahütte\n\nTag 3: \n\nSkihochtour auf das Fluchthorn (3.795m) und über 2.200Hm Abfahrt vom Gipfel bis ins Tal nach Saas-Grund (1.550m)\n\nHalbpension auf der Hütte: 75.- CHF\nGgf. kommen noch Liftgebühren hinzu: 33 bis 56.- CHF (je nach Variante und Aufstiegshöhe) \n
URL:https://sektion-karpaten.de/veranstaltung/skihochtour-britanniahuette/
LOCATION:Britanniahütte
CATEGORIES:Hochtour,Skitour
ATTACH;FMTTYPE=image/png:https://sektion-karpaten.de/wp-content/uploads/gipfel.png
ORGANIZER;CN="Danny%20L%C3%BCtzelberger":MAILTO:danny.luetzelberger@sektion-karpaten.de
END:VEVENT
BEGIN:VEVENT
DTSTART;TZID=Europe/Berlin:20230310T080000
DTEND;TZID=Europe/Berlin:20230312T170000
DTSTAMP:20260424T023545
CREATED:20230105T072216Z
LAST-MODIFIED:20230105T072216Z
UID:14678-1678435200-1678640400@sektion-karpaten.de
SUMMARY:Skitouren rund um die Neue Bamberger Hütte
DESCRIPTION:Anreise \n\nFreitag Vormittag zur Hütte\, evtl. ein kleiner Gipfel\nTourenplanung\n\ngemütlicher Aufenthalt\, kein früher Start\, eine Tour pro Tag mit max. 800 hm \nfür Anfänger geeignet \ndie Ziele werden je nach Schneeverhältnissen und Lawinensituation ausgesucht und vor Ort geplant \nmögliche Gipfel: \n\nKröndlhorn 2.444m\, Tristkopf 2.361m\,  Schafsiedel 2.447m\, Aleitenspitze 2.449m und noch viele mehr ….\n\nDer Tourenleiter ist lediglich mit der Organisation betraut. Jeder Teilnehmer ist den Anforderungen und Gefahren der Tour gewachsen und die Teilnahme erfolgt in Eigenverantwortung. \n  \n
URL:https://sektion-karpaten.de/veranstaltung/skitouren-rund-um-die-neue-bamberger-huette/
LOCATION:Neue Bamberger Hütte\, Kurzer Grund 28\, Kelchsau\, Tirol\, 6361\, Österreich
CATEGORIES:Skitour
ATTACH;FMTTYPE=image/jpeg:https://sektion-karpaten.de/wp-content/uploads/dsc01420-scaled.jpg
ORGANIZER;CN="Petra%20Maurer":MAILTO:petra.maurer@sektion-karpaten.de
END:VEVENT
END:VCALENDAR