BEGIN:VCALENDAR
VERSION:2.0
PRODID:-//Sektion Karpaten - ECPv5.1.1//NONSGML v1.0//EN
CALSCALE:GREGORIAN
METHOD:PUBLISH
X-WR-CALNAME:Sektion Karpaten
X-ORIGINAL-URL:https://sektion-karpaten.de
X-WR-CALDESC:Veranstaltungen im Sektion Karpaten
BEGIN:VTIMEZONE
TZID:Europe/Berlin
BEGIN:DAYLIGHT
TZOFFSETFROM:+0100
TZOFFSETTO:+0200
TZNAME:CEST
DTSTART:20230326T010000
END:DAYLIGHT
BEGIN:STANDARD
TZOFFSETFROM:+0200
TZOFFSETTO:+0100
TZNAME:CET
DTSTART:20231029T010000
END:STANDARD
END:VTIMEZONE
BEGIN:VEVENT
DTSTART;TZID=Europe/Berlin:20230303T120000
DTEND;TZID=Europe/Berlin:20230305T170000
DTSTAMP:20260423T173654
CREATED:20220927T134649Z
LAST-MODIFIED:20221120T172153Z
UID:12887-1677844800-1678035600@sektion-karpaten.de
SUMMARY:Freeride-Skikurs im Montafon
DESCRIPTION:Wir wollen Tempo und Kurvenfahren abseits der Piste trainieren in Gelände mit unterschiedlichen Hangneigung und bei unterschiedlichen Schneeverhältnissen abfahren. \nJe nach Schnee und Wetterlage wird das Rahmenprogramm zusammengestellt:\n– wir werden unsere Skifahrtechnik optimieren und dabei sowohl die Kurzschwünge\, wie auch die mittleren bis weiten Radien üben und das Kurvenfahren verbessern\n– wir werden die Körperhaltung optimieren bei variablem Rhythmus und dabei üben die Ski parallel zu fahren \nOrganisatorisches:\n– Anreise:     Freitag bis 12:00 Uhr\n– Abreise:      Sonntag am späten Nachmittag\, nach dem letzten Skitag \n
URL:https://sektion-karpaten.de/veranstaltung/freeride-skikurs-im-montafon-3/
LOCATION:Wormser Hütte\, Kapellerweg 45\, Schruns\, 8780\, Österreich
CATEGORIES:Alpinski,Ausbildung,Skitour
ATTACH;FMTTYPE=image/jpeg:https://sektion-karpaten.de/wp-content/uploads/spuren_im_schnee.jpg
ORGANIZER;CN="Hans%20Georg%20Richter":MAILTO:georg.richter@sektion-karpaten.de
END:VEVENT
BEGIN:VEVENT
DTSTART;TZID=Europe/Berlin:20230303T120000
DTEND;TZID=Europe/Berlin:20230305T190000
DTSTAMP:20260423T173654
CREATED:20221026T121643Z
LAST-MODIFIED:20221201T154320Z
UID:13280-1677844800-1678042800@sektion-karpaten.de
SUMMARY:Skitouren von der Langtalereckhütte (2480m)
DESCRIPTION:Ziele und Ablauf \nmögliche Gipfel: \n\nAnnakogel (3333m)\nEiskögele (3233m)\nHinterer Seelenkogel (3489m)\n\nDie Touren werden abhängig von Wetter bzw. Schneelage und tagesaktueller Lawinengefährdung vor Ort festgelegt. \nFreitag \n\nAnreise\, Ausrüstungscheck\, Aufstieg zur Hütte (754Hm\, 2\,5 Std. 6\,2 Km)\n\nSamstag \n\nSkitour\nnach der Tour:  Tourenplanung\n\nSonntag \n\nSkitour\nAbreise\n\nKosten \n\nFür Sektionsmitglieder – Fahrtkosten\, Übernachtung mit Halbpension\nNur BARZAHLUNG möglich\n\nJeder Teilnehmer ist den gesetzten Zielen gewachsen und muss jederzeit die Gefahren der Tour selbstständig abschätzen können (Einschätzen des Lawinenrisikos\, Orientieren im freien Gelände\, Beherrschen von Spaltenbergungstechniken). \nAnzahlung: \n\n20 € pro Person (Anzahlung Hütten)\n\nDie Anzahlung entspricht der Stornogebühr (siehe AGB Hütten) und ist nach der Anmeldung fällig – die Bankverbindung wird mit der Anmeldebestätigung mitgeteilt. \n
URL:https://sektion-karpaten.de/veranstaltung/skitouren-von-der-langtalereckhuette-2480m-3/
LOCATION:Langtalereckhütte\, Obergurgl\, Tirol\, 6456\, Österreich
CATEGORIES:Hochtour,Skitour
ATTACH;FMTTYPE=image/jpeg:https://sektion-karpaten.de/wp-content/uploads/img_1637-scaled.jpg
ORGANIZER;CN="Hans%20Werner":MAILTO:hans.werner@sektion-karpaten.de
END:VEVENT
BEGIN:VEVENT
DTSTART;TZID=Europe/Berlin:20230303T140000
DTEND;TZID=Europe/Berlin:20230305T180000
DTSTAMP:20260423T173654
CREATED:20221114T100741Z
LAST-MODIFIED:20221120T210658Z
UID:13741-1677852000-1678039200@sektion-karpaten.de
SUMMARY:Skitouren um die Amberger Hütte
DESCRIPTION:Ablauf und Ziele \n\nMögliche Ziele: Kuhscheibe (3189 m)\, Windacher Daunkogel (3351 m)\, Hinterer Daunkopf (3225 m)\, Schrankarkogel (3327 m)\nDie Touren und das Programm werden abhängig von Wetter bzw. Schneelage und tagesaktueller Lawinengefährdung vor Ort festgelegt.\n\nFreitag \n\nAnreise ca. 15:30 Uhr\, Ausrüstungscheck\, Aufstieg (ca 2 Stunden)\, Tourenplanung\n\nSamstag \n\nSkitour je nach Wetter- und Lawinenlage\nnach der Tour: gemeinsame Tourenplanung\n\nSonntag \n\nSkitour je nach Wetter- und Lawinenlage\nAbreise\n\n\nAnzahlung: \n\n10 € pro Person (Anzahlung für die Hütte)\n\nDie Anzahlung entspricht der Stornogebühr und ist nach der Anmeldung fällig – die Bankverbindung wird mit der Anmeldebestätigung mitgeteilt. \n  \nWichtig: \nJeder Teilnehmer ist den gesetzten Zielen gewachsen und muss jederzeit die Gefahren der Tour selbstständig abschätzen können (Einschätzen des Lawinenrisikos\, Orientieren im freien Gelände\, Beherrschen von Spaltenbergung). \n  \n
URL:https://sektion-karpaten.de/veranstaltung/skitouren-amberger-huette/
LOCATION:Amberger Hütte\, Gries 17\, Längenfeld\, Tirol\, 6444\, Österreich
CATEGORIES:Skitour
ATTACH;FMTTYPE=image/jpeg:https://sektion-karpaten.de/wp-content/uploads/dsc02537-scaled.jpg
ORGANIZER;CN="Agnieszka%20Janik":MAILTO:agnieszka.janik@sektion-karpaten.de
END:VEVENT
BEGIN:VEVENT
DTSTART;TZID=Europe/Berlin:20230303T180000
DTEND;TZID=Europe/Berlin:20230305T170000
DTSTAMP:20260423T173654
CREATED:20221201T093041Z
LAST-MODIFIED:20230106T091605Z
UID:14214-1677866400-1678035600@sektion-karpaten.de
SUMMARY:Wildspitze Ostgrat (Jubiläumsgrat) - 3768m Skihochtour
DESCRIPTION:Ablauf\n \nFreitag \n\nAnreise\, Materialcheck und Gruppenaufteilung.\n\nSamstag \n\nWildspitze\n\nSonntag \n\nReservetag Wildspitze bzw. alternative Skitour und Heimreise\n\nDie endgültige Tourenplanung wird abhängig von Wetter\, bzw. Schneelage und tagesaktueller Lawinengefährdung\, vor Ort festgelegt. \nJeder Teilnehmer ist den gesetzten Zielen gewachsen und muss jederzeit die Gefahren der Tour selbstständig abschätzen können (Einschätzen des Lawinenrisikos\, Orientieren im freien Gelände\, Beherrschen von Spaltenbergungstechniken) \n
URL:https://sektion-karpaten.de/veranstaltung/wildspitze-ostgrat-jubilaeumsgrat-3768m-skihochtour/
LOCATION:Wildspitze Pitztal\, Österreich
CATEGORIES:Hochtour,Skitour
ATTACH;FMTTYPE=image/jpeg:https://sektion-karpaten.de/wp-content/uploads/1007413l.jpg
END:VEVENT
BEGIN:VEVENT
DTSTART;TZID=Europe/Berlin:20230303T180000
DTEND;TZID=Europe/Berlin:20230305T170000
DTSTAMP:20260423T173654
CREATED:20221201T093102Z
LAST-MODIFIED:20230106T091452Z
UID:14474-1677866400-1678035600@sektion-karpaten.de
SUMMARY:Wildspitze (3768m)\, Skihochtour
DESCRIPTION:Ablauf\n \nFreitag \n\nAnreise\, Materialcheck und Gruppenaufteilung.\n\nSamstag \n\nVon dem Mittelbergjoch auf die Wildspitze.\n\nSonntag \n\nReservetag Wildspitze bzw. alternative Skitour und Heimreise\n\nDie endgültige Tourenplanung wird abhängig von Wetter\, bzw. Schneelage und tagesaktueller Lawinengefährdung\, vor Ort festgelegt. \nJeder Teilnehmer ist den gesetzten Zielen gewachsen und muss jederzeit die Gefahren der Tour selbstständig abschätzen können (Einschätzen des Lawinenrisikos\, Orientieren im freien Gelände\, Beherrschen von Spaltenbergungstechniken). \n  \n
URL:https://sektion-karpaten.de/veranstaltung/wildspitze-3768m-skihochtour-2/
LOCATION:Wildspitze Pitztal\, Österreich
CATEGORIES:Hochtour,Skitour
ATTACH;FMTTYPE=image/jpeg:https://sektion-karpaten.de/wp-content/uploads/wildspitze_pitztal_w01.jpg
ORGANIZER;CN="Klaus%20Simonis":MAILTO:klaus.simonis@sektion-karpaten.de
END:VEVENT
END:VCALENDAR