BEGIN:VCALENDAR
VERSION:2.0
PRODID:-//Sektion Karpaten - ECPv5.1.1//NONSGML v1.0//EN
CALSCALE:GREGORIAN
METHOD:PUBLISH
X-WR-CALNAME:Sektion Karpaten
X-ORIGINAL-URL:https://sektion-karpaten.de
X-WR-CALDESC:Veranstaltungen im Sektion Karpaten
BEGIN:VTIMEZONE
TZID:Europe/Berlin
BEGIN:DAYLIGHT
TZOFFSETFROM:+0100
TZOFFSETTO:+0200
TZNAME:CEST
DTSTART:20230326T010000
END:DAYLIGHT
BEGIN:STANDARD
TZOFFSETFROM:+0200
TZOFFSETTO:+0100
TZNAME:CET
DTSTART:20231029T010000
END:STANDARD
END:VTIMEZONE
BEGIN:VEVENT
DTSTART;TZID=Europe/Berlin:20230301T083000
DTEND;TZID=Europe/Berlin:20230301T170000
DTSTAMP:20260423T151755
CREATED:20221111T145836Z
LAST-MODIFIED:20230227T113731Z
UID:13417-1677659400-1677690000@sektion-karpaten.de
SUMMARY:Winter-Wochentagwanderung in den Bayerischen Voralpen (Staffel (1532m)
DESCRIPTION:Winterliche Wochentagswanderung in die Bayrischen Voralpen \nTourenziel: Staffel (1532m) \nDie Touren werden abhängig von Wetter bzw. Schneelage und tagesaktueller Lawinengefährdung festgelegt. \n\nAufstieg ca. 800 Hm\nGrödel oder Schneeschuhe könnten notwendig sein\n\nJeder Teilnehmer ist den gesetzten Zielen gewachsen und muss jederzeit die Gefahren der Tour selbstständig abschätzen können. \n  \n
URL:https://sektion-karpaten.de/veranstaltung/winter-wochentagwanderung-in-den-bayerischen-voralpen/
LOCATION:Jachenau\, Jachenaus\, bayern\, 83676\, Deutschland
CATEGORIES:Bergtour, Wandern
ATTACH;FMTTYPE=image/jpeg:https://sektion-karpaten.de/wp-content/uploads/20211228-111646-scaled.jpg
ORGANIZER;CN="Detlev%20Antosch":MAILTO:detlev.antosch@sektion-karpaten.de
END:VEVENT
END:VCALENDAR