BEGIN:VCALENDAR
VERSION:2.0
PRODID:-//Sektion Karpaten - ECPv5.1.1//NONSGML v1.0//EN
CALSCALE:GREGORIAN
METHOD:PUBLISH
X-WR-CALNAME:Sektion Karpaten
X-ORIGINAL-URL:https://sektion-karpaten.de
X-WR-CALDESC:Veranstaltungen im Sektion Karpaten
BEGIN:VTIMEZONE
TZID:Europe/Berlin
BEGIN:DAYLIGHT
TZOFFSETFROM:+0100
TZOFFSETTO:+0200
TZNAME:CEST
DTSTART:20230326T010000
END:DAYLIGHT
BEGIN:STANDARD
TZOFFSETFROM:+0200
TZOFFSETTO:+0100
TZNAME:CET
DTSTART:20231029T010000
END:STANDARD
END:VTIMEZONE
BEGIN:VEVENT
DTSTART;TZID=Europe/Berlin:20230224T140000
DTEND;TZID=Europe/Berlin:20230226T180000
DTSTAMP:20260423T105106
CREATED:20221114T100210Z
LAST-MODIFIED:20230220T172114Z
UID:13725-1677247200-1677434400@sektion-karpaten.de
SUMMARY:Skitouren in der Tuxer Alpen
DESCRIPTION:Ablauf und Ziele \n\nDie Touren und das Programm werden abhängig von Wetter bzw. Schneelage und tagesaktueller Lawinengefährdung vor Ort festgelegt.\nMögliche Ziele: Kreuzspitze (2746 m)\, Morgenkogel (2607 m)\, Sonnenspitze (2639 m)\, Glungezer (2677 m)\n\nFreitag \n\nAnreise ca. 15:30 Uhr\, Ausrüstungscheck\, Aufstieg (ca 2 Stunden)\, Tourenplanung\n\nSamstag \n\nSkitour je nach Wetter- und Lawinenlage\nnach der Tour: gemeinsame Tourenplanung\n\nSonntag \n\nSkitour je nach Wetter- und Lawinenlage\nAbreise\n\n  \nStornoinformationen: \nInformation von der Webseite: \nBei Stornierungen von jeglichen Reservierungen gelten die Empfehlungen der Hauptverbände des deutschen und österreichischen Alpenvereins: \n\nBei Rücktritt bzw. Nichtantritt des Gastes werden folgende Stornogebühren pro Nacht und Schlafplatz fällig:\nBei Rücktritt ab 5 Tagen vor Beginn des Aufenthalts: 10\,00 Euro pro Person und Nacht.\n\n
URL:https://sektion-karpaten.de/veranstaltung/skitouren-tuxer-alpen/
LOCATION:Meißner Haus\, Viggar 141/1\, Ellbögen\, 6083\, Österreich
CATEGORIES:Skitour
ATTACH;FMTTYPE=image/jpeg:https://sektion-karpaten.de/wp-content/uploads/img-6128-scaled.jpg
ORGANIZER;CN="Agnieszka%20Janik":MAILTO:agnieszka.janik@sektion-karpaten.de
END:VEVENT
BEGIN:VEVENT
DTSTART;TZID=Europe/Berlin:20230225T090000
DTEND;TZID=Europe/Berlin:20230226T170000
DTSTAMP:20260423T105106
CREATED:20221124T153003Z
LAST-MODIFIED:20221124T153003Z
UID:13423-1677315600-1677430800@sektion-karpaten.de
SUMMARY:Schneeschuhtour zum Rastkogel
DESCRIPTION:Ablauf \nSamstag \n\nAnfahrt zum Hüttenparkplatz an der Zillertal Höhenstraße\nAufstieg zur Hütte\nSchneeschuhtour\n\nSonntag \n\nSchneeschuhtour\nAbstieg zum Parkplatz\n\nMögliche Gipfel: \n\nRastkogel 2762m\nRoßkopf 2576\nKreuzjoch 2336m\n\nDie Touren werden abhängig von Wetter bzw. Schneelage und tagesaktueller Lawinengefährdung vor Ort festgelegt. \nJeder Teilnehmer ist den gesetzten Zielen gewachsen und muss jederzeit die Gefahren der Tour selbstständig abschätzen können (Einschätzen des Lawinenrisikos\, Orientieren im freien Gelände) \n
URL:https://sektion-karpaten.de/veranstaltung/schneeschuhtour-zum-rastkogel-2/
LOCATION:Rastkogelhütte\, Hochschwendberg\, Hippach\, 6283
CATEGORIES:Schneeschuhe
ATTACH;FMTTYPE=image/jpeg:https://sektion-karpaten.de/wp-content/uploads/20220323-132007-scaled.jpg
ORGANIZER;CN="Detlev%20Antosch":MAILTO:detlev.antosch@sektion-karpaten.de
END:VEVENT
END:VCALENDAR